BEGIN:VCALENDAR
VERSION:2.0
PRODID:-//eventon.com NONSGML v1.0//EN
CALSCALE:GREGORIAN
METHOD:PUBLISH
BEGIN:VEVENT
UID:69e5fac4dd5d6
DTSTAMP:20260420T120700
DTSTART:20260615T060000Z
DTEND:20260615T100000Z
TZID:Europe/Paris
LOCATION:
SUMMARY:Baccalauréat de philosophie
DESCRIPTION: Baccalauréat de philosophie\nhttps://www.lasallesaintemarie-nemours.fr/events/baccalaureat-de-philosophie/
URL:https://www.lasallesaintemarie-nemours.fr/events/baccalaureat-de-philosophie/
END:VEVENT
END:VCALENDAR