BEGIN:VCALENDAR
VERSION:2.0
PRODID:-//eventon.com NONSGML v1.0//EN
CALSCALE:GREGORIAN
METHOD:PUBLISH
BEGIN:VEVENT
UID:69e676e65acde
DTSTAMP:20260420T205638
DTSTART:20260108T070000Z
DTEND:20260108T110000Z
TZID:Europe/Paris
LOCATION:
SUMMARY:Bac blanc de philosophie
DESCRIPTION: Bac blanc de philosophie\nhttps://www.lasallesaintemarie-nemours.fr/events/bac-blanc-de-philosophie/
URL:https://www.lasallesaintemarie-nemours.fr/events/bac-blanc-de-philosophie/
END:VEVENT
END:VCALENDAR